BEGIN:VCALENDAR
VERSION:2.0
PRODID:-//Bay Babes - ECPv6.15.0.1//NONSGML v1.0//EN
CALSCALE:GREGORIAN
METHOD:PUBLISH
X-ORIGINAL-URL:https://baybabes.com.au
X-WR-CALDESC:Events for Bay Babes
REFRESH-INTERVAL;VALUE=DURATION:PT1H
X-Robots-Tag:noindex
X-PUBLISHED-TTL:PT1H
BEGIN:VTIMEZONE
TZID:UTC
BEGIN:STANDARD
TZOFFSETFROM:+0000
TZOFFSETTO:+0000
TZNAME:UTC
DTSTART:20240101T000000
END:STANDARD
END:VTIMEZONE
BEGIN:VEVENT
DTSTART;TZID=UTC:20251010T113000
DTEND;TZID=UTC:20251010T140000
DTSTAMP:20260426T011056
CREATED:20250724T035359Z
LAST-MODIFIED:20250725T075430Z
UID:12795-1760095800-1760104800@baybabes.com.au
SUMMARY:Girls Morning In 2025
DESCRIPTION:BUY TICKETS\nOn this very special morning Friday 10th October 2025 we will be turning pink once again to raise awareness and funds for breast cancer research as we continue to support local families affected by breast cancer. \nThis year will be filled with fun and surprises including a fashion parade featuring the latest seasons styles hosted by Bay Road Clothes. \nWe will once again get an update on the latest innovations from our local Oncology experts and find out where the funds raised by Bay Babes are going to good use. Enjoy a delicious 2 course lunch\, a glass of bubbles on arrival\, games to play and prizes to be won. \nWe hope you can join us during Breast Cancer Awareness Month and assist us in raising more much needed funds. \nFriday 10th October 2025\nGymea Tradies\n11.30am – 2pm \n  \n 
URL:https://baybabes.com.au/event/girls-morning-in-2025/
LOCATION:Gymea Tradies\, 57 Manchester Rd\, Gymea\, NSW\, 2227\, Australia
CATEGORIES:Breast Cancer Fundraiser
ATTACH;FMTTYPE=image/jpeg:https://baybabes.com.au/wp-content/uploads/2018/02/image003.jpg
ORGANIZER;CN="Bay Babes":MAILTO:hello@baybabes.com.au
END:VEVENT
BEGIN:VEVENT
DTSTART;TZID=UTC:20241011T113000
DTEND;TZID=UTC:20241011T140000
DTSTAMP:20260426T011056
CREATED:20200908T180219Z
LAST-MODIFIED:20240725T070959Z
UID:9673-1728646200-1728655200@baybabes.com.au
SUMMARY:Girls Morning In 2024
DESCRIPTION:BUY TICKETS\nOn this very special morning Friday 11th October 2024 we will be turning pink once again to raise awareness and funds for breast cancer research as we continue to support local families affected by breast cancer. \nWe will once again have a host of inspirational guest speakers to share their stories with us all\, a delicious 2 course lunch to enjoy\, some wonderful music to entertain us\, games to play and prizes to be won. \nThis event is a celebration of life and the wonderful community we live in.  We hope you can join us! \nFriday 11th October 2024\nGymea Tradies\n11.30am – 2pm \n  \n 
URL:https://baybabes.com.au/event/girls-morning-in-2024/
LOCATION:Gymea Tradies\, 57 Manchester Rd\, Gymea\, NSW\, 2227\, Australia
CATEGORIES:Breast Cancer Fundraiser
ATTACH;FMTTYPE=image/jpeg:https://baybabes.com.au/wp-content/uploads/2018/02/image003.jpg
ORGANIZER;CN="Bay Babes":MAILTO:hello@baybabes.com.au
END:VEVENT
END:VCALENDAR